BEGIN:VCALENDAR
VERSION:2.0
PRODID:-//hacksw/handcal//NONSGML v1.0//EN
CALSCALE:GREGORIAN
BEGIN:VEVENT
DTEND:20250823T230000Z
UID:69e720fabc3c4
DTSTAMP:20260421T080218Z
LOCATION:Vichy

DESCRIPTION:
URL;VALUE=URI:
SUMMARY:IRONMAN 70.3 Vichy
DTSTART:20250823T230000Z
END:VEVENT
END:VCALENDAR
An internal server error occurred.