BEGIN:VCALENDAR
VERSION:2.0
PRODID:-//hacksw/handcal//NONSGML v1.0//EN
CALSCALE:GREGORIAN
BEGIN:VEVENT
DTEND:20250719T230000Z
UID:69e6fdf35a8d9
DTSTAMP:20260421T053251Z
LOCATION:12946 Lake Placid\, New York
DESCRIPTION:
 

URL;VALUE=URI:
SUMMARY:IRONMAN Lake Placid
DTSTART:20250719T230000Z
END:VEVENT
END:VCALENDAR
An internal server error occurred.