BEGIN:VCALENDAR
VERSION:2.0
PRODID:-//hacksw/handcal//NONSGML v1.0//EN
CALSCALE:GREGORIAN
BEGIN:VEVENT
DTEND:20250719T230000Z
UID:69e70ec5a28e9
DTSTAMP:20260421T064437Z
LOCATION:Sandusky\, Ohio
DESCRIPTION:
URL;VALUE=URI:
SUMMARY:IRONMAN 70.3 Ohio
DTSTART:20250719T230000Z
END:VEVENT
END:VCALENDAR
An internal server error occurred.