BEGIN:VCALENDAR
VERSION:2.0
PRODID:-//hacksw/handcal//NONSGML v1.0//EN
CALSCALE:GREGORIAN
BEGIN:VEVENT
DTEND:20250712T230000Z
UID:69e611e9bb2fc
DTSTAMP:20260420T124545Z
LOCATION:10000 Vitoria-Gasteiz
DESCRIPTION:
URL;VALUE=URI:
SUMMARY:IRONMAN Vitoria-Gasteiz
DTSTART:20250712T230000Z
END:VEVENT
END:VCALENDAR
An internal server error occurred.