BEGIN:VCALENDAR
VERSION:2.0
PRODID:-//hacksw/handcal//NONSGML v1.0//EN
CALSCALE:GREGORIAN
BEGIN:VEVENT
DTEND:20250711T230000Z
UID:69e623a051fb8
DTSTAMP:20260420T140120Z
LOCATION:47303 Muncie

DESCRIPTION:
URL;VALUE=URI:
SUMMARY:IRONMAN 70.3 Muncie
DTSTART:20250711T230000Z
END:VEVENT
END:VCALENDAR
An internal server error occurred.