BEGIN:VCALENDAR
VERSION:2.0
PRODID:-//hacksw/handcal//NONSGML v1.0//EN
CALSCALE:GREGORIAN
BEGIN:VEVENT
DTEND:20250712T230000Z
UID:69eb4f0951f33
DTSTAMP:20260424T120753Z
LOCATION:Remich-Région Moselle
DESCRIPTION:
URL;VALUE=URI:
SUMMARY:IRONMAN 70.3 Luxembourg
DTSTART:20250712T230000Z
END:VEVENT
END:VCALENDAR
An internal server error occurred.