BEGIN:VCALENDAR
VERSION:2.0
PRODID:-//hacksw/handcal//NONSGML v1.0//EN
CALSCALE:GREGORIAN
BEGIN:VEVENT
DTEND:20250424T230000Z
UID:69e9849220632
DTSTAMP:20260423T033146Z
LOCATION:08001 Barcelona
DESCRIPTION:
URL;VALUE=URI:
SUMMARY:Hyrox Barcelona
DTSTART:20250424T230000Z
END:VEVENT
END:VCALENDAR
An internal server error occurred.