BEGIN:VCALENDAR
VERSION:2.0
PRODID:-//hacksw/handcal//NONSGML v1.0//EN
CALSCALE:GREGORIAN
BEGIN:VEVENT
DTEND:20250628T230000Z
UID:69e65fc2b8089
DTSTAMP:20260420T181754Z
LOCATION:66679 Losheim am See
DESCRIPTION:
URL;VALUE=URI:
SUMMARY:Losheimer Trailfest
DTSTART:20250627T230000Z
END:VEVENT
END:VCALENDAR
An internal server error occurred.