BEGIN:VCALENDAR
VERSION:2.0
PRODID:-//hacksw/handcal//NONSGML v1.0//EN
CALSCALE:GREGORIAN
BEGIN:VEVENT
DTEND:20250614T230000Z
UID:69e5bee092263
DTSTAMP:20260420T065128Z
LOCATION:4000 Queensland

DESCRIPTION:
URL;VALUE=URI:
SUMMARY:IRONMAN 70.3 Cairns
DTSTART:20250614T230000Z
END:VEVENT
END:VCALENDAR
An internal server error occurred.