BEGIN:VCALENDAR
VERSION:2.0
PRODID:-//hacksw/handcal//NONSGML v1.0//EN
CALSCALE:GREGORIAN
BEGIN:VEVENT
DTEND:20250628T230000Z
UID:69e615eb8cc2a
DTSTAMP:20260420T130251Z
LOCATION:10000 Nizza
DESCRIPTION:
URL;VALUE=URI:
SUMMARY:IRONMAN 70.3 Nice
DTSTART:20250628T230000Z
END:VEVENT
END:VCALENDAR
An internal server error occurred.