BEGIN:VCALENDAR
VERSION:2.0
PRODID:-//hacksw/handcal//NONSGML v1.0//EN
CALSCALE:GREGORIAN
BEGIN:VEVENT
DTEND:20250612T230000Z
UID:69ebf2ba2a4f4
DTSTAMP:20260424T234618Z
LOCATION:8160 Weiz
DESCRIPTION:
URL;VALUE=URI:
SUMMARY:CityRun Weiz
DTSTART:20250612T230000Z
END:VEVENT
END:VCALENDAR
An internal server error occurred.