BEGIN:VCALENDAR
VERSION:2.0
PRODID:-//hacksw/handcal//NONSGML v1.0//EN
CALSCALE:GREGORIAN
BEGIN:VEVENT
DTEND:20250614T230000Z
UID:69e59fa144cf3
DTSTAMP:20260420T043809Z
LOCATION:Subic Bay

DESCRIPTION:
URL;VALUE=URI:
SUMMARY:IRONMAN 70.3 Subic Bay
DTSTART:20250614T230000Z
END:VEVENT
END:VCALENDAR
An internal server error occurred.