BEGIN:VCALENDAR
VERSION:2.0
PRODID:-//hacksw/handcal//NONSGML v1.0//EN
CALSCALE:GREGORIAN
BEGIN:VEVENT
DTEND:20250614T230000Z
UID:69e5e6749207c
DTSTAMP:20260420T094020Z
LOCATION:54649 Waxweiler
DESCRIPTION:
URL;VALUE=URI:
SUMMARY:Eifel Marathon
DTSTART:20250614T230000Z
END:VEVENT
END:VCALENDAR
An internal server error occurred.