BEGIN:VCALENDAR
VERSION:2.0
PRODID:-//hacksw/handcal//NONSGML v1.0//EN
CALSCALE:GREGORIAN
BEGIN:VEVENT
DTEND:20250531T230000Z
UID:69e59f9381582
DTSTAMP:20260420T043755Z
LOCATION:Kwa Zulu Natal
DESCRIPTION:
URL;VALUE=URI:
SUMMARY:IRONMAN 70.3 Durban
DTSTART:20250531T230000Z
END:VEVENT
END:VCALENDAR
An internal server error occurred.