BEGIN:VCALENDAR
VERSION:2.0
PRODID:-//hacksw/handcal//NONSGML v1.0//EN
CALSCALE:GREGORIAN
BEGIN:VEVENT
DTEND:20250524T230000Z
UID:69e9729cbabcc
DTSTAMP:20260423T021508Z
LOCATION:26131 Oldenburg
DESCRIPTION:
URL;VALUE=URI:
SUMMARY:Everstener Brunnenlauf
DTSTART:20250524T230000Z
END:VEVENT
END:VCALENDAR
An internal server error occurred.