BEGIN:VCALENDAR
VERSION:2.0
PRODID:-//hacksw/handcal//NONSGML v1.0//EN
CALSCALE:GREGORIAN
BEGIN:VEVENT
DTEND:20250613T230000Z
UID:69e95680283aa
DTSTAMP:20260423T001512Z
LOCATION:9171 Longyearbyen
DESCRIPTION:
URL;VALUE=URI:
SUMMARY: Spitsbergen Marathon
DTSTART:20250613T230000Z
END:VEVENT
END:VCALENDAR
An internal server error occurred.