BEGIN:VCALENDAR
VERSION:2.0
PRODID:-//hacksw/handcal//NONSGML v1.0//EN
CALSCALE:GREGORIAN
BEGIN:VEVENT
DTEND:20250528T230000Z
UID:69e5f19e7722f
DTSTAMP:20260420T102758Z
LOCATION:1220 Wien
DESCRIPTION:
URL;VALUE=URI:
SUMMARY:Seestadt Triathlon Vienna
DTSTART:20250527T230000Z
END:VEVENT
END:VCALENDAR
An internal server error occurred.