BEGIN:VCALENDAR
VERSION:2.0
PRODID:-//hacksw/handcal//NONSGML v1.0//EN
CALSCALE:GREGORIAN
BEGIN:VEVENT
DTEND:20250524T230000Z
UID:69e58cf1d5bc9
DTSTAMP:20260420T031825Z
LOCATION:77901 Victoria

DESCRIPTION:
URL;VALUE=URI:
SUMMARY:IRONMAN 70.3 Victoria
DTSTART:20250524T230000Z
END:VEVENT
END:VCALENDAR
An internal server error occurred.