BEGIN:VCALENDAR
VERSION:2.0
PRODID:-//hacksw/handcal//NONSGML v1.0//EN
CALSCALE:GREGORIAN
BEGIN:VEVENT
DTEND:20250524T230000Z
UID:69ecedc6d1337
DTSTAMP:20260425T173726Z
LOCATION:69242 Kraichgau

DESCRIPTION:
URL;VALUE=URI:
SUMMARY:IRONMAN 70.3 Kraichgau
DTSTART:20250524T230000Z
END:VEVENT
END:VCALENDAR
An internal server error occurred.