BEGIN:VCALENDAR
VERSION:2.0
PRODID:-//hacksw/handcal//NONSGML v1.0//EN
CALSCALE:GREGORIAN
BEGIN:VEVENT
DTEND:20250524T230000Z
UID:69ed7f9a9751d
DTSTAMP:20260426T035938Z
LOCATION:1020 Wien
DESCRIPTION:
URL;VALUE=URI:
SUMMARY:Österreichischer Frauenlauf Wien
DTSTART:20250524T230000Z
END:VEVENT
END:VCALENDAR
An internal server error occurred.