BEGIN:VCALENDAR
VERSION:2.0
PRODID:-//hacksw/handcal//NONSGML v1.0//EN
CALSCALE:GREGORIAN
BEGIN:VEVENT
DTEND:20250524T230000Z
UID:69e5dd643657c
DTSTAMP:20260420T090140Z
LOCATION:3100 St. Pölten
DESCRIPTION:
URL;VALUE=URI:
SUMMARY:Challenge St. Pölten
DTSTART:20250524T230000Z
END:VEVENT
END:VCALENDAR
An internal server error occurred.