BEGIN:VCALENDAR
VERSION:2.0
PRODID:-//hacksw/handcal//NONSGML v1.0//EN
CALSCALE:GREGORIAN
BEGIN:VEVENT
DTEND:20250531T230000Z
UID:69e59b51dca68
DTSTAMP:20260420T041945Z
LOCATION:88000-000 Florianopolis\, Brazil

DESCRIPTION:
URL;VALUE=URI:
SUMMARY:IRONMAN Brazil
DTSTART:20250531T230000Z
END:VEVENT
END:VCALENDAR
An internal server error occurred.