BEGIN:VCALENDAR
VERSION:2.0
PRODID:-//hacksw/handcal//NONSGML v1.0//EN
CALSCALE:GREGORIAN
BEGIN:VEVENT
DTEND:20250516T230000Z
UID:69e5f19dd6219
DTSTAMP:20260420T102757Z
LOCATION:35509 Lanzarote

DESCRIPTION:
URL;VALUE=URI:
SUMMARY:IRONMAN Lanzarote
DTSTART:20250516T230000Z
END:VEVENT
END:VCALENDAR
An internal server error occurred.