BEGIN:VCALENDAR
VERSION:2.0
PRODID:-//hacksw/handcal//NONSGML v1.0//EN
CALSCALE:GREGORIAN
BEGIN:VEVENT
DTEND:20250509T230000Z
UID:69eac6c8835fe
DTSTAMP:20260424T022632Z
LOCATION:St. George\, Utah

DESCRIPTION:
URL;VALUE=URI:
SUMMARY:IRONMAN 70.3 North American Championship St. George
DTSTART:20250509T230000Z
END:VEVENT
END:VCALENDAR
An internal server error occurred.