BEGIN:VCALENDAR
VERSION:2.0
PRODID:-//hacksw/handcal//NONSGML v1.0//EN
CALSCALE:GREGORIAN
BEGIN:VEVENT
DTEND:20250830T230000Z
UID:69e6d3b0b4611
DTSTAMP:20260421T023232Z
LOCATION:2851 Krumbach
DESCRIPTION:
URL;VALUE=URI:
SUMMARY:Run the Bugles Krumbach
DTSTART:20250830T230000Z
END:VEVENT
END:VCALENDAR
An internal server error occurred.