BEGIN:VCALENDAR
VERSION:2.0
PRODID:-//hacksw/handcal//NONSGML v1.0//EN
CALSCALE:GREGORIAN
BEGIN:VEVENT
DTEND:20250516T230000Z
UID:69e93d2fb52d8
DTSTAMP:20260422T222711Z
LOCATION:2881 Trattenbach
DESCRIPTION:
URL;VALUE=URI:
SUMMARY:Alpkogellauf Trattenbach
DTSTART:20250516T230000Z
END:VEVENT
END:VCALENDAR
An internal server error occurred.