BEGIN:VCALENDAR
VERSION:2.0
PRODID:-//hacksw/handcal//NONSGML v1.0//EN
CALSCALE:GREGORIAN
BEGIN:VEVENT
DTEND:20250503T230000Z
UID:69e5f19e8d4b6
DTSTAMP:20260420T102758Z
LOCATION:Cap Cana\, Dominican Republic
DESCRIPTION:
URL;VALUE=URI:
SUMMARY:IRONMAN 70.3 Cap Cana
DTSTART:20250503T230000Z
END:VEVENT
END:VCALENDAR
An internal server error occurred.