BEGIN:VCALENDAR
VERSION:2.0
PRODID:-//hacksw/handcal//NONSGML v1.0//EN
CALSCALE:GREGORIAN
BEGIN:VEVENT
DTEND:20250425T230000Z
UID:69ecedc8c758c
DTSTAMP:20260425T173728Z
LOCATION:6020 Innsbruck
DESCRIPTION:
URL;VALUE=URI:
SUMMARY:Ruetzer Lauf
DTSTART:20250425T230000Z
END:VEVENT
END:VCALENDAR
An internal server error occurred.