BEGIN:VCALENDAR
VERSION:2.0
PRODID:-//hacksw/handcal//NONSGML v1.0//EN
CALSCALE:GREGORIAN
BEGIN:VEVENT
DTEND:20250424T230000Z
UID:69e7235c84b71
DTSTAMP:20260421T081228Z
LOCATION:9020 Klagenfurt
DESCRIPTION:
URL;VALUE=URI:
SUMMARY:X-Trail Business Run
DTSTART:20250424T230000Z
END:VEVENT
END:VCALENDAR
An internal server error occurred.