BEGIN:VCALENDAR
VERSION:2.0
PRODID:-//hacksw/handcal//NONSGML v1.0//EN
CALSCALE:GREGORIAN
BEGIN:VEVENT
DTEND:20250426T230000Z
UID:69e8d004c2002
DTSTAMP:20260422T144124Z
LOCATION:Nantes
DESCRIPTION:
URL;VALUE=URI:
SUMMARY:Abalone Marathon de Nantes
DTSTART:20250425T230000Z
END:VEVENT
END:VCALENDAR
An internal server error occurred.