BEGIN:VCALENDAR
VERSION:2.0
PRODID:-//hacksw/handcal//NONSGML v1.0//EN
CALSCALE:GREGORIAN
BEGIN:VEVENT
DTEND:20250321T230000Z
UID:69ead10150d69
DTSTAMP:20260424T031009Z
LOCATION:8330 Leitersdorf im Raabtal 
DESCRIPTION:
URL;VALUE=URI:
SUMMARY:Vulkanland-Frühlingslauf in Leitersdorf im Raabtal
DTSTART:20250321T230000Z
END:VEVENT
END:VCALENDAR
An internal server error occurred.