BEGIN:VCALENDAR
VERSION:2.0
PRODID:-//hacksw/handcal//NONSGML v1.0//EN
CALSCALE:GREGORIAN
BEGIN:VEVENT
DTEND:20240930T230000Z
UID:69ecfe88e48b7
DTSTAMP:20260425T184856Z
LOCATION:1020 Wien
DESCRIPTION:
URL;VALUE=URI:
SUMMARY:SeniorInnen Nordic Walking Day
DTSTART:20240930T230000Z
END:VEVENT
END:VCALENDAR
An internal server error occurred.