BEGIN:VCALENDAR
VERSION:2.0
PRODID:-//hacksw/handcal//NONSGML v1.0//EN
CALSCALE:GREGORIAN
BEGIN:VEVENT
DTEND:20240629T230000Z
UID:69eb10a37686b
DTSTAMP:20260424T074139Z
LOCATION:3100 St. Pölten
DESCRIPTION:
URL;VALUE=URI:
SUMMARY:Spartan St. Pölten
DTSTART:20240627T230000Z
END:VEVENT
END:VCALENDAR
An internal server error occurred.