BEGIN:VCALENDAR
VERSION:2.0
PRODID:-//hacksw/handcal//NONSGML v1.0//EN
CALSCALE:GREGORIAN
BEGIN:VEVENT
DTEND:20240810T230000Z
UID:69ecf42357ee8
DTSTAMP:20260425T180435Z
LOCATION:Mammut
DESCRIPTION:
URL;VALUE=URI:
SUMMARY:schauinsland Muddy Angel Run Mitten in Deutschland
DTSTART:20240810T230000Z
END:VEVENT
END:VCALENDAR
An internal server error occurred.