BEGIN:VCALENDAR
VERSION:2.0
PRODID:-//hacksw/handcal//NONSGML v1.0//EN
CALSCALE:GREGORIAN
BEGIN:VEVENT
DTEND:20241012T230000Z
UID:69e716a94dec7
DTSTAMP:20260421T071817Z
LOCATION:Eindhoven
DESCRIPTION:
URL;VALUE=URI:
SUMMARY:Marathon Eindhoven
DTSTART:20241012T230000Z
END:VEVENT
END:VCALENDAR
An internal server error occurred.