BEGIN:VCALENDAR
VERSION:2.0
PRODID:-//hacksw/handcal//NONSGML v1.0//EN
CALSCALE:GREGORIAN
BEGIN:VEVENT
DTEND:20241012T230000Z
UID:69e716aa0b969
DTSTAMP:20260421T071818Z
LOCATION:Poznan

DESCRIPTION:
URL;VALUE=URI:
SUMMARY:Polen Marathon
DTSTART:20241012T230000Z
END:VEVENT
END:VCALENDAR
An internal server error occurred.