BEGIN:VCALENDAR
VERSION:2.0
PRODID:-//hacksw/handcal//NONSGML v1.0//EN
CALSCALE:GREGORIAN
BEGIN:VEVENT
DTEND:20240913T230000Z
UID:69e664d7a5253
DTSTAMP:20260420T183935Z
LOCATION:Jyväskyla
DESCRIPTION:
URL;VALUE=URI:
SUMMARY:Finlandia Marathon
DTSTART:20240913T230000Z
END:VEVENT
END:VCALENDAR
An internal server error occurred.