BEGIN:VCALENDAR
VERSION:2.0
PRODID:-//hacksw/handcal//NONSGML v1.0//EN
CALSCALE:GREGORIAN
BEGIN:VEVENT
DTEND:20240525T230000Z
UID:69e59b5659461
DTSTAMP:20260420T041950Z
LOCATION:Edinburgh
DESCRIPTION:
URL;VALUE=URI:
SUMMARY:Edinburgh Marathon
DTSTART:20240525T230000Z
END:VEVENT
END:VCALENDAR
An internal server error occurred.