BEGIN:VCALENDAR
VERSION:2.0
PRODID:-//hacksw/handcal//NONSGML v1.0//EN
CALSCALE:GREGORIAN
BEGIN:VEVENT
DTEND:20240420T230000Z
UID:69e8983fc89a1
DTSTAMP:20260422T104327Z
LOCATION:Nantes
DESCRIPTION:
URL;VALUE=URI:
SUMMARY:Abalone Marathon de Nantes
DTSTART:20240419T230000Z
END:VEVENT
END:VCALENDAR
An internal server error occurred.