BEGIN:VCALENDAR
VERSION:2.0
PRODID:-//hacksw/handcal//NONSGML v1.0//EN
CALSCALE:GREGORIAN
BEGIN:VEVENT
DTEND:20241130T230000Z
UID:69ecedc03de8c
DTSTAMP:20260425T173720Z
LOCATION:Busselton\, Western Australia
DESCRIPTION:
URL;VALUE=URI:
SUMMARY:IRONMAN 70.3 Western Australia
DTSTART:20241130T230000Z
END:VEVENT
END:VCALENDAR
An internal server error occurred.