BEGIN:VCALENDAR
VERSION:2.0
PRODID:-//hacksw/handcal//NONSGML v1.0//EN
CALSCALE:GREGORIAN
BEGIN:VEVENT
DTEND:20241109T230000Z
UID:69e70c11650aa
DTSTAMP:20260421T063305Z
LOCATION:St. Kilda\, Victoria

DESCRIPTION:
URL;VALUE=URI:
SUMMARY:IRONMAN 70.3 Melbourne
DTSTART:20241109T230000Z
END:VEVENT
END:VCALENDAR
An internal server error occurred.