BEGIN:VCALENDAR
VERSION:2.0
PRODID:-//hacksw/handcal//NONSGML v1.0//EN
CALSCALE:GREGORIAN
BEGIN:VEVENT
DTEND:20241101T230000Z
UID:69e75d6151d15
DTSTAMP:20260421T122001Z
LOCATION:Panama City Beach\, Florida
DESCRIPTION:
URL;VALUE=URI:
SUMMARY:IRONMAN Florida
DTSTART:20241101T230000Z
END:VEVENT
END:VCALENDAR
An internal server error occurred.