BEGIN:VCALENDAR
VERSION:2.0
PRODID:-//hacksw/handcal//NONSGML v1.0//EN
CALSCALE:GREGORIAN
BEGIN:VEVENT
DTEND:20241005T230000Z
UID:69e70c117b1df
DTSTAMP:20260421T063305Z
LOCATION:Waco\, Texas
DESCRIPTION:
URL;VALUE=URI:
SUMMARY:IRONMAN 70.3 Waco
DTSTART:20241005T230000Z
END:VEVENT
END:VCALENDAR
An internal server error occurred.