BEGIN:VCALENDAR
VERSION:2.0
PRODID:-//hacksw/handcal//NONSGML v1.0//EN
CALSCALE:GREGORIAN
BEGIN:VEVENT
DTEND:20240928T230000Z
UID:69e70c1191d22
DTSTAMP:20260421T063305Z
LOCATION:Augusta\, Georgia
DESCRIPTION:
URL;VALUE=URI:
SUMMARY:IRONMAN 70.3 Augusta
DTSTART:20240928T230000Z
END:VEVENT
END:VCALENDAR
An internal server error occurred.