BEGIN:VCALENDAR
VERSION:2.0
PRODID:-//hacksw/handcal//NONSGML v1.0//EN
CALSCALE:GREGORIAN
BEGIN:VEVENT
DTEND:20240921T230000Z
UID:69e90c777efe0
DTSTAMP:20260422T185919Z
LOCATION:Richland\, Washington
DESCRIPTION:
URL;VALUE=URI:
SUMMARY:IRONMAN 70.3 Washington Tri-Cities
DTSTART:20240921T230000Z
END:VEVENT
END:VCALENDAR
An internal server error occurred.