BEGIN:VCALENDAR
VERSION:2.0
PRODID:-//hacksw/handcal//NONSGML v1.0//EN
CALSCALE:GREGORIAN
BEGIN:VEVENT
DTEND:20240921T230000Z
UID:69e7f731383f5
DTSTAMP:20260421T231617Z
LOCATION:Pembrokeshire\, Wales

DESCRIPTION:
URL;VALUE=URI:
SUMMARY:IRONMAN Wales
DTSTART:20240921T230000Z
END:VEVENT
END:VCALENDAR
An internal server error occurred.