BEGIN:VCALENDAR
VERSION:2.0
PRODID:-//hacksw/handcal//NONSGML v1.0//EN
CALSCALE:GREGORIAN
BEGIN:VEVENT
DTEND:20240921T230000Z
UID:69e9568c6c6ce
DTSTAMP:20260423T001524Z
LOCATION:Sāo Paulo
DESCRIPTION:
URL;VALUE=URI:
SUMMARY:IRONMAN 70.3 São Paulo
DTSTART:20240921T230000Z
END:VEVENT
END:VCALENDAR
An internal server error occurred.