BEGIN:VCALENDAR
VERSION:2.0
PRODID:-//hacksw/handcal//NONSGML v1.0//EN
CALSCALE:GREGORIAN
BEGIN:VEVENT
DTEND:20240921T230000Z
UID:69e725a91ea47
DTSTAMP:20260421T082217Z
LOCATION:Cozumel
DESCRIPTION:
URL;VALUE=URI:
SUMMARY:IRONMAN 70.3 Cozumel
DTSTART:20240921T230000Z
END:VEVENT
END:VCALENDAR
An internal server error occurred.