BEGIN:VCALENDAR
VERSION:2.0
PRODID:-//hacksw/handcal//NONSGML v1.0//EN
CALSCALE:GREGORIAN
BEGIN:VEVENT
DTEND:20240920T230000Z
UID:69e6d6435a7ce
DTSTAMP:20260421T024331Z
LOCATION:Cambridge\, Maryland
DESCRIPTION:
URL;VALUE=URI:
SUMMARY:IRONMAN Maryland
DTSTART:20240920T230000Z
END:VEVENT
END:VCALENDAR
An internal server error occurred.