BEGIN:VCALENDAR
VERSION:2.0
PRODID:-//hacksw/handcal//NONSGML v1.0//EN
CALSCALE:GREGORIAN
BEGIN:VEVENT
DTEND:20240914T230000Z
UID:69e741966e4b7
DTSTAMP:20260421T102126Z
LOCATION:Frankfort\, Michigan
DESCRIPTION:
URL;VALUE=URI:
SUMMARY:IRONMAN 70.3 Michigan
DTSTART:20240914T230000Z
END:VEVENT
END:VCALENDAR
An internal server error occurred.